BEGIN:VCALENDAR
VERSION:2.0
PRODID:-//Wallace Design Collective - ECPv6.15.20//NONSGML v1.0//EN
CALSCALE:GREGORIAN
METHOD:PUBLISH
X-ORIGINAL-URL:https://wallace.design
X-WR-CALDESC:Events for Wallace Design Collective
REFRESH-INTERVAL;VALUE=DURATION:PT1H
X-Robots-Tag:noindex
X-PUBLISHED-TTL:PT1H
BEGIN:VTIMEZONE
TZID:America/Chicago
BEGIN:DAYLIGHT
TZOFFSETFROM:-0600
TZOFFSETTO:-0500
TZNAME:CDT
DTSTART:20240310T080000
END:DAYLIGHT
BEGIN:STANDARD
TZOFFSETFROM:-0500
TZOFFSETTO:-0600
TZNAME:CST
DTSTART:20241103T070000
END:STANDARD
BEGIN:DAYLIGHT
TZOFFSETFROM:-0600
TZOFFSETTO:-0500
TZNAME:CDT
DTSTART:20250309T080000
END:DAYLIGHT
BEGIN:STANDARD
TZOFFSETFROM:-0500
TZOFFSETTO:-0600
TZNAME:CST
DTSTART:20251102T070000
END:STANDARD
BEGIN:DAYLIGHT
TZOFFSETFROM:-0600
TZOFFSETTO:-0500
TZNAME:CDT
DTSTART:20260308T080000
END:DAYLIGHT
BEGIN:STANDARD
TZOFFSETFROM:-0500
TZOFFSETTO:-0600
TZNAME:CST
DTSTART:20261101T070000
END:STANDARD
END:VTIMEZONE
BEGIN:VEVENT
DTSTART;VALUE=DATE:20250924
DTEND;VALUE=DATE:20250927
DTSTAMP:20260421T125157
CREATED:20250902T181102Z
LAST-MODIFIED:20250919T130013Z
UID:7900-1758672000-1758931199@wallace.design
SUMMARY:GASFA Conference and Trade Show
DESCRIPTION:We’re excited to be part of the 2025 GASFA Fall Conference! This gathering brings together state facility leaders and industry professionals to share ideas and look ahead at what’s next for Georgia’s state facilities. Wallace Design Collective is Thursday’s Cocktail Sponsor\, and Kevin J. Smith will be there representing our team – see you on Jekyll Island! \n  \n  \n\n \n\n \nattendee\n\nKevin J. Smith\n\nAssociate | Structural Engineer\nemail
URL:https://wallace.design/insights-events/gasfa-conference-and-trade-show/
LOCATION:Jekyll Island Convention Center\, 75 Beachview Drive North\, Jekyll Island\, GA\, 31527
CATEGORIES:Healthcare
END:VEVENT
END:VCALENDAR