BEGIN:VCALENDAR
VERSION:2.0
PRODID:-//Wallace Design Collective - ECPv6.15.20//NONSGML v1.0//EN
CALSCALE:GREGORIAN
METHOD:PUBLISH
X-ORIGINAL-URL:https://wallace.design
X-WR-CALDESC:Events for Wallace Design Collective
REFRESH-INTERVAL;VALUE=DURATION:PT1H
X-Robots-Tag:noindex
X-PUBLISHED-TTL:PT1H
BEGIN:VTIMEZONE
TZID:America/Chicago
BEGIN:DAYLIGHT
TZOFFSETFROM:-0600
TZOFFSETTO:-0500
TZNAME:CDT
DTSTART:20240310T080000
END:DAYLIGHT
BEGIN:STANDARD
TZOFFSETFROM:-0500
TZOFFSETTO:-0600
TZNAME:CST
DTSTART:20241103T070000
END:STANDARD
BEGIN:DAYLIGHT
TZOFFSETFROM:-0600
TZOFFSETTO:-0500
TZNAME:CDT
DTSTART:20250309T080000
END:DAYLIGHT
BEGIN:STANDARD
TZOFFSETFROM:-0500
TZOFFSETTO:-0600
TZNAME:CST
DTSTART:20251102T070000
END:STANDARD
BEGIN:DAYLIGHT
TZOFFSETFROM:-0600
TZOFFSETTO:-0500
TZNAME:CDT
DTSTART:20260308T080000
END:DAYLIGHT
BEGIN:STANDARD
TZOFFSETFROM:-0500
TZOFFSETTO:-0600
TZNAME:CST
DTSTART:20261101T070000
END:STANDARD
END:VTIMEZONE
BEGIN:VEVENT
DTSTART;VALUE=DATE:20250825
DTEND;VALUE=DATE:20250828
DTSTAMP:20260421T045333
CREATED:20250823T184926Z
LAST-MODIFIED:20250823T190049Z
UID:7892-1756080000-1756339199@wallace.design
SUMMARY:AICCO The Gathering Business Summit
DESCRIPTION:We’re proud to sponsor and attend this year’s American Indian Chamber of Commerce of Oklahoma (AICCO) The Gathering Business Summit and to connect with others committed to growing opportunity alongside Native-owned businesses and sovereign tribal nations across Oklahoma. \nWe’ve had the privilege of partnering with more than 25 tribal nations to support a wide range of projects across healthcare\, education\, housing\, cultural spaces\, infrastructure and economic development. Our work in Indian Country is a meaningful part of who we are. Each project is grounded in respect for sovereignty\, cultural identity and the unique priorities of every Nation we serve. \nIf you’re attending\, come find us – we’d love to connect! \n  \n\n \n\n \nattendee\nRobert Anquoe \nCivil Engineer\nemail \n\n \n\n \nattendee \nNicole Watts  \nPrincipal | Civil Engineer email \n\n \n\n \nattendee \n Lance Woolsey \nAssociate | Civil Engineer email \n\n \n\n \nattendee\n Jen Hubbard \nTalent Acquisition\nemail
URL:https://wallace.design/insights-events/aicco-the-gathering-business-summit/
LOCATION:River Spirit Casino\, 8330 Riverside Parkway\, Tulsa\, OK\, 74137
CATEGORIES:Indian Country
END:VEVENT
END:VCALENDAR