BEGIN:VCALENDAR
VERSION:2.0
PRODID:-//Wallace Design Collective - ECPv6.15.20//NONSGML v1.0//EN
CALSCALE:GREGORIAN
METHOD:PUBLISH
X-ORIGINAL-URL:https://wallace.design
X-WR-CALDESC:Events for Wallace Design Collective
REFRESH-INTERVAL;VALUE=DURATION:PT1H
X-Robots-Tag:noindex
X-PUBLISHED-TTL:PT1H
BEGIN:VTIMEZONE
TZID:America/Chicago
BEGIN:DAYLIGHT
TZOFFSETFROM:-0600
TZOFFSETTO:-0500
TZNAME:CDT
DTSTART:20240310T080000
END:DAYLIGHT
BEGIN:STANDARD
TZOFFSETFROM:-0500
TZOFFSETTO:-0600
TZNAME:CST
DTSTART:20241103T070000
END:STANDARD
BEGIN:DAYLIGHT
TZOFFSETFROM:-0600
TZOFFSETTO:-0500
TZNAME:CDT
DTSTART:20250309T080000
END:DAYLIGHT
BEGIN:STANDARD
TZOFFSETFROM:-0500
TZOFFSETTO:-0600
TZNAME:CST
DTSTART:20251102T070000
END:STANDARD
BEGIN:DAYLIGHT
TZOFFSETFROM:-0600
TZOFFSETTO:-0500
TZNAME:CDT
DTSTART:20260308T080000
END:DAYLIGHT
BEGIN:STANDARD
TZOFFSETFROM:-0500
TZOFFSETTO:-0600
TZNAME:CST
DTSTART:20261101T070000
END:STANDARD
BEGIN:DAYLIGHT
TZOFFSETFROM:-0600
TZOFFSETTO:-0500
TZNAME:CDT
DTSTART:20270314T080000
END:DAYLIGHT
BEGIN:STANDARD
TZOFFSETFROM:-0500
TZOFFSETTO:-0600
TZNAME:CST
DTSTART:20271107T070000
END:STANDARD
END:VTIMEZONE
BEGIN:VEVENT
DTSTART;VALUE=DATE:20251112
DTEND;VALUE=DATE:20251115
DTSTAMP:20260421T141751
CREATED:20250902T210354Z
LAST-MODIFIED:20250902T211915Z
UID:7929-1762905600-1763164799@wallace.design
SUMMARY:ULI Place Summit
DESCRIPTION:Team Wallace’s Alan Taylor\, Mandy Bunch\, Chris Lang\, Fallon Henry and Lee Myane are excited to join the 2025 ULI Place Conference right in our backyard in Fayetteville! With Northwest Arkansas experiencing such rapid growth\, we’re eager to dive into discussions with industry professionals about what’s next for real estate and urban development. \nThe conference promises valuable perspectives on infrastructure\, technology\, housing\, and public/private partnerships – all topics that are especially relevant as our region continues to evolve and expand. We’re looking forward to learning from other professionals and sharing ideas about how we can all contribute to thoughtful\, sustainable development in this dynamic market. \nIf you’ll be there\, let’s connect – we’d enjoy the chance to chat about the exciting changes happening in our corner of Arkansas. \n \n \n\n   \n\n     \n\n      attendee\n      \n        Alan Taylor\n      \n      Principal | Civil Engineer\n      email\n     \n \n   \n\n     \n\n      attendee\n      \n        Mandy Bunch\n      \n      Associate | Civil Engineer\n      email\n     \n \n   \n\n     \n\n      attendee\n      \n        Chris Lang\n      \n      Associate | Structural Engineer\n      email\n     \n \n\n \n\n   \n\n     \n\n      attendee\n      \n        Fallon Henry\n      \n      Landscape Architect\n      email\n     \n \n   \n\n     \n\n      attendee\n      \n        Lee Mayne\n      \n      Landscape Architect\n      email
URL:https://wallace.design/insights-events/uli-place-summit/
LOCATION:The Fayetteville Town Center\, 15 West Mountain Street\, Fayetteville\, AR\, 72701
CATEGORIES:Civic & Cultural
END:VEVENT
BEGIN:VEVENT
DTSTART;TZID=America/Chicago:20251114T153000
DTEND;TZID=America/Chicago:20251114T200000
DTSTAMP:20260421T141751
CREATED:20251008T143330Z
LAST-MODIFIED:20251008T143404Z
UID:9262-1763134200-1763150400@wallace.design
SUMMARY:Vanderbilt ASCE Centennial Celebration
DESCRIPTION:We’re excited to celebrate a century of innovation in civil engineering at the Vanderbilt ASCE Centennial Celebration. \nThis milestone event will bring together civil engineering students and professionals from across the region – including Vanderbilt\, Lipscomb University\, Tennessee State University\, Tennessee Tech and others – for an afternoon of collaboration\, connection and celebration. \nAaron Coonley will join students in a hands-on design challenge\, working side-by-side to solve engineering problems in real time. We look forward to sponsoring this event while building meaningful connections with emerging talent! \n  \n\n \n\n \nattendee\n\nAaron Coonley\n\nStructural Engineer\nemail
URL:https://wallace.design/insights-events/vanderbilt-asce-centennial-celebration/
LOCATION:Vanderbilt University\, 2201 West End Avenue\, Nashville\, Tennessee\, 37235
CATEGORIES:Education
END:VEVENT
BEGIN:VEVENT
DTSTART;TZID=America/Chicago:20251120T103000
DTEND;TZID=America/Chicago:20251120T113000
DTSTAMP:20260421T141751
CREATED:20250919T145324Z
LAST-MODIFIED:20250919T145324Z
UID:9095-1763634600-1763638200@wallace.design
SUMMARY:Kennesaw State University Engineering Panel
DESCRIPTION:What’s it really like to be an engineer? Our very own Aaron Coonley is giving Kennesaw State University engineering students a glimpse into his career – from major projects like Coda and the Northside Cherokee Campus to lessons he wishes he’d known starting out. We’re proud to see him inspiring the next generation! \n  \n\n \n\n \nattendee\n\nAaron Coonley\n\nStructural Engineer\nemail
URL:https://wallace.design/insights-events/kennesaw-state-university-engineering-panel/
LOCATION:Kennesaw State University Marietta Campus\, 1100 South Marietta Pkwy\, Marietta\, Georgia\, 30060
CATEGORIES:Education
END:VEVENT
BEGIN:VEVENT
DTSTART;VALUE=DATE:20251202
DTEND;VALUE=DATE:20251206
DTSTAMP:20260421T141751
CREATED:20250822T175520Z
LAST-MODIFIED:20260126T155812Z
UID:7932-1764633600-1764979199@wallace.design
SUMMARY:ICSC Centerbuild
DESCRIPTION:Wallace Design Collective is heading to Phoenix for ICSC CenterBuild this December! Carrie Johnson\, Max Lehman\, and Darcey Schumacher and Justin Hartman will be there\, joining conversations about the future of retail development and design. From structural and civil solutions to landscape architecture and planning\, we’re committed to creating spaces that are resilient\, adaptable and built for community. If you’re attending\, let’s connect and talk about how Wallace can help bring your next project to life. \n  \n\n \n\n \nattendee\n\nCarrie Johnson\n\nPresident of the Board | Principal\nemail \n\n \n\n \nattendee\n\nMax Lehman\n\nPrincipal | Structural Engineer\nemail \n\n \n\n \nattendee\n\nDarcey Schumacher\n\nPrincipal | Structural Engineer\nemail \n\n \n\n \nattendee\n\nJustin Hartman\n\nPrincipal | Structural Engineer\nemail
URL:https://wallace.design/insights-events/icsc-centerbuild/
LOCATION:JW Marriott Phoenix Desert Ridge Resort & Spa Phoenix\, AZ\, 5350 E Marriott Dr\, Phoenix\, AZ\, 85054
CATEGORIES:Retail
END:VEVENT
BEGIN:VEVENT
DTSTART;VALUE=DATE:20260121
DTEND;VALUE=DATE:20260124
DTSTAMP:20260421T141751
CREATED:20260112T145933Z
LAST-MODIFIED:20260112T145933Z
UID:9709-1768953600-1769212799@wallace.design
SUMMARY:CMAO Winter Conference 2026
DESCRIPTION:We’re heading to the CMAO Winter Conference and look forward to connecting with city leaders across Oklahoma and learning how we can support your communities. \nThis event brings together city leaders\, municipal managers and industry partners who share a commitment to building stronger\, more resilient communities across the state. \nCome meet Jeremy Belitz\, Karl Fritschen\, Justin Debruin\, and Robert Richardson. We’re looking forward to joining leaders from across Oklahoma to share ideas\, explore solutions and collaborate on ways to plan for the future. \n  \n\n \n\n \nattendee\n\nJeremy Belitz\n\nDirector of Landscape Architecture\nemail \n\n \n\n \nattendee\n\nKarl Fritschen\n\nLand Planner | Landscape Architect\nemail \n\n \n\n \nattendee\n\nJustin Debruin\n\nLand Planner\nemail \n\n \n\n \nattendee\n\nRobert Richardson\n\nLandscape Architect\nemail
URL:https://wallace.design/insights-events/cmao-winter-conference-2026/
LOCATION:Edmond Conference Center\, 2833 Conference Drive\, Edmond\, OK\, 73034\, United States
CATEGORIES:Civic & Cultural
END:VEVENT
BEGIN:VEVENT
DTSTART;VALUE=DATE:20260128
DTEND;VALUE=DATE:20260131
DTSTAMP:20260421T141751
CREATED:20250919T152321Z
LAST-MODIFIED:20260126T164358Z
UID:9111-1769558400-1769817599@wallace.design
SUMMARY:SMPS Southern Regional Conference 2026 - UNIFY
DESCRIPTION:We’re heading to SMPS Southern Regional Conference – where A/E/C marketers\, business developers\, and seller-doers come together to sharpen strategy\, share what’s working and elevate client experience. If you’re focused on creating clearer\, more compelling client journeys\, let’s talk. \n \n \n\n   \n\n     \n\nattendee\n\n      Janel Bales\n    \nBusiness Development Coordinator\nemail\n \n \n   \n\n     \n\nattendee\n\n      Laura Wainwright\n    \nMarketing Coordinator\nemail\n \n \n   \n\n     \n\nattendee\n\n      Allison Cyrus\n    \nMarketing Coordinator\nemail\n \n \n\n   \n\n     \n\nattendee\n\n      Lilly Harrell\n    \nMarketing Coordinator\nemail\n \n \n   \n\n     \n\nattendee\n\n      Sierra Patton\n    \nMarketing Coordinator\nemail
URL:https://wallace.design/insights-events/smps-southern-regional-conference-2026-unify/
LOCATION:InterContinental San Antonio\, 111 East Pecan Street\, San Antonio\, Texas\, 78205
CATEGORIES:AEC Industry
END:VEVENT
BEGIN:VEVENT
DTSTART;VALUE=DATE:20260217
DTEND;VALUE=DATE:20260219
DTSTAMP:20260421T141751
CREATED:20260119T214951Z
LAST-MODIFIED:20260119T220231Z
UID:9737-1771286400-1771459199@wallace.design
SUMMARY:ICSC Red River
DESCRIPTION:Wallace Design Collective is heading to San Antonio for ICSC Red River this February! Patrick Altendorf and Justin Hartman will be there\, joining conversations about the future of retail development and design. From structural and civil solutions to landscape architecture and planning\, we’re committed to creating spaces that are resilient\, adaptable and built for community. If you’re attending\, let’s connect and talk about how Wallace can help bring your next project to life. \n  \n\n \n\n \nattendee\n\nPatrick Altendorf\n\nPrincipal | Civil Engineer\nemail \n\n \n\n \nattendee\n\nJustin Hartman\n\nPrincipal | Structural Engineer\nemail
URL:https://wallace.design/insights-events/icsc-red-river/
LOCATION:Henry B. González Convention Center\, 900 E Market St\, San Antonio\, TX 78205\, San Antonio\, Texas\, 78205
CATEGORIES:Retail
END:VEVENT
BEGIN:VEVENT
DTSTART;VALUE=DATE:20260308
DTEND;VALUE=DATE:20260312
DTSTAMP:20260421T141751
CREATED:20260119T220158Z
LAST-MODIFIED:20260310T144920Z
UID:9740-1772928000-1773273599@wallace.design
SUMMARY:ASHE PDC Summit
DESCRIPTION:Headed to Houston? Principals David Lower and Alan Taylor will be attending the ASHE PDC Summit this March\, connecting with peers and exploring what’s next in healthcare design and construction. \nLet’s connect if you’ll be there. \n  \n  \n \n\n \nattendee\n\nDavid Lower\n\nStructural Principal\nemail \n\n\n \nattendee\n\nAlan Taylor\n\nPrincipal | Civil Engineer\nemail
URL:https://wallace.design/insights-events/ashe-pdc-26/
LOCATION:George R. Brown Convention Center\, 1001 Avenida De Las Americas\, Houston\, Texas\, 77010
CATEGORIES:Healthcare
END:VEVENT
BEGIN:VEVENT
DTSTART;VALUE=DATE:20260313
DTEND;VALUE=DATE:20260314
DTSTAMP:20260421T141751
CREATED:20260310T144840Z
LAST-MODIFIED:20260310T144840Z
UID:9860-1773360000-1773446399@wallace.design
SUMMARY:APA Cincinnati Allor Planning & Zoning Workshop
DESCRIPTION:Housing conversations are happening in communities everywhere right now. If you’re attending the APA Cincinnati Allor Planning &amp; Zoning Workshop on Friday\, March 13\, be sure to catch Chris Chiodini\, AICP’s session: “Real Life Infill Housing Examples – Tales from an Accidental Developer.” \nChris will share practical ways communities can quickly identify opportunities for infill residential development – drawing on real-world experience from the perspective of an “accidental developer” who also happens to be a planner. If you’ll be there\, we’d love to connect! \n  \n\n \n\n \nattendee\n\nChris Chiodini\n\nLand Planner\nemail
URL:https://wallace.design/insights-events/apa-cincinnati-workshop-26/
LOCATION:Graduate by Hilton\, 151 Goodman Street\, Cincinnati\, Ohio\, 45219
CATEGORIES:Civic & Cultural
END:VEVENT
BEGIN:VEVENT
DTSTART;VALUE=DATE:20260408
DTEND;VALUE=DATE:20260411
DTSTAMP:20260421T141751
CREATED:20260126T182809Z
LAST-MODIFIED:20260126T182809Z
UID:9774-1775606400-1775865599@wallace.design
SUMMARY:SMPS Missouri Valley Conference
DESCRIPTION:Janel and Fallon are headed to Bentonville for the SMPS Ozarks Regional Conference\, where Wallace Design Collective is proud to serve as a Breakfast Sponsor. We’re excited to connect with industry peers\, share ideas and strengthen relationships across Northwest Arkansas and the surrounding region. As the region continues to grow\, we’re excited to stay connected to the people and projects helping make Northwest Arkansas an even better place to live\, work and connect. \nHeading to the conference? Let’s connect! \n \n\n \n\n \n\nattendee\nJanel Bales\nBusiness Development Coordinator\nemail\n\n\n \n\n \n\nattendee\nFallon Henry\nLandscape Architect\nemail
URL:https://wallace.design/insights-events/smps-missouri-valley-2026/
LOCATION:Record\, 104 SW A Street\, Bentonville\, Arkansas\, 72712
CATEGORIES:AEC Industry
END:VEVENT
BEGIN:VEVENT
DTSTART;VALUE=DATE:20260420
DTEND;VALUE=DATE:20260423
DTSTAMP:20260421T141751
CREATED:20260409T142711Z
LAST-MODIFIED:20260409T142711Z
UID:9953-1776643200-1776902399@wallace.design
SUMMARY:Oklahoma Tribal Finance Consortium (OTFC)  Spring Conference
DESCRIPTION:Robert Anquoe is attending the Oklahoma Tribal Finance Consortium (OTFC) Spring Conference\, where he’ll be connecting with tribal nations and partners focused on advancing community priorities. His perspective\, shaped by his broader leadership and deep commitment to Native communities\, guides an approach rooted in listening first and aligning solutions with each nation’s vision. From infrastructure to long-term development\, we’re eager to listen\, learn and support work that reflects the strength and resilience of the communities we serve. Let’s connect if you’ll be there. \n  \n\n \n\n \nattendee\n\nRobert Anquoe\n\nDesign Engineer\nemail
URL:https://wallace.design/insights-events/otfc-spring-conference/
LOCATION:Downstream Casino\, 69300 E Nee Rd\, Quapaw\, 74363\, United States
CATEGORIES:Indian Country
END:VEVENT
BEGIN:VEVENT
DTSTART;TZID=America/Chicago:20260423T130000
DTEND;TZID=America/Chicago:20260423T150000
DTSTAMP:20260421T141751
CREATED:20260417T183206Z
LAST-MODIFIED:20260420T132112Z
UID:9978-1776949200-1776956400@wallace.design
SUMMARY:NASCC: The Steel Conference - Direct Connect (SCIS)
DESCRIPTION:If you’re a student heading to NASCC: The Steel Conference\, don’t miss the Direct Connect session. \nAaron Coonley will be there from Wallace\, connecting with students and talking through what a career in structural engineering actually looks like – beyond the classroom and into real project work. \nIf you’re a student attending\, take the time to introduce yourself\, ask questions and start building those connections early. \nCome find Aaron – we’d love to meet you. \n\n \n\n \nattendee\n\nAaron Coonley\n\nStructural Engineer\nemail
URL:https://wallace.design/insights-events/nascc-direct-connect-scis/
LOCATION:Georgia World Congress Center\, 285 Andrew Young International Blvd NW\, Atlanta\, Georgia\, 30313
CATEGORIES:AEC Industry
END:VEVENT
BEGIN:VEVENT
DTSTART;TZID=America/Chicago:20260423T170000
DTEND;TZID=America/Chicago:20260423T183000
DTSTAMP:20260421T141751
CREATED:20260206T170607Z
LAST-MODIFIED:20260401T015042Z
UID:9767-1776963600-1776969000@wallace.design
SUMMARY:AIA Central Oklahoma - Architecture After 5
DESCRIPTION:Join us April 23rd for American Institute of Architects – Central Oklahoma Chapter Architecture After 5 at our Oklahoma City office! We’re excited to welcome the A/E/C community to our office in Deep Deuce for an evening of connection\, conversation and local refreshments with industry friends. \nRegistration is now open! Click the here to RSVP. \nWe hope to see you there!
URL:https://wallace.design/insights-events/architecture-after-5-2026/
LOCATION:Wallace Design Collective OKC Office\, 410 North Walnut Avenue\, Suite 200\, Oklahoma City\, Oklahoma\, 73104
CATEGORIES:AEC Industry
END:VEVENT
BEGIN:VEVENT
DTSTART;VALUE=DATE:20260428
DTEND;VALUE=DATE:20260429
DTSTAMP:20260421T141751
CREATED:20260409T144419Z
LAST-MODIFIED:20260409T163840Z
UID:9957-1777334400-1777420799@wallace.design
SUMMARY:GASFA Spring Summit 2026
DESCRIPTION:Wallace Design Collective is proud to sponsor and attend the GASFA Spring Summit! This event brings together state facility leaders and industry professionals to explore the latest in facilities management and legislative updates. We’re excited to connect\, collaborate and contribute to shaping the future of Georgia’s state facilities. We look forward to conversations that spark new partnerships and insights we can carry into our work with healthcare clients. \n  \n\n \n\n \nattendee\n\nEric Blackmore\n\nPrincipal | Structural Engineer\nemail \n\n \n\n \nattendee\n\nRobert Hale\n\nAssociate | Structural Engineer\nemail
URL:https://wallace.design/insights-events/gasfa-spring-summit-2026/
LOCATION:Georgia World Congress Center\, 285 Andrew Young International Blvd NW\, Atlanta\, Georgia\, 30313
CATEGORIES:Education
END:VEVENT
BEGIN:VEVENT
DTSTART;VALUE=DATE:20260512
DTEND;VALUE=DATE:20260517
DTSTAMP:20260421T141751
CREATED:20260409T165333Z
LAST-MODIFIED:20260409T170011Z
UID:9963-1778544000-1778975999@wallace.design
SUMMARY:Congress for the New Urbanism CNU.34
DESCRIPTION:Congress for the New Urbanism CNU.34 heads to Northwest Arkansas\, May 12 – 16\, and we’re proud to be a Supporting Partner Sponsor. \nWallace team members Alan Taylor\, Jeremy Belitz\, Chris Lang\, Fallon Henry and Lee Myane will be attending – learning from the 100+ speakers and practitioners\, participating in workshops and connecting with others working to close the gap between good design and real-world delivery. \nIf you’re heading to CNU\, let’s connect – we’d enjoy the chance to chat about the exciting changes happening in our corner of Arkansas. \n \n\n \n\n \nattendee\n\nAlan Taylor\n\nPrincipal | Civil Engineer\nemail \n\n \n\n \nattendee\n\nJeremy Belitz\n\nAssociate | Director of Landscape Architecture\nemail \n\n \n\n \nattendee\n\nChris Lang\n\nAssociate | Structural Engineer\nemail \n\n\n \n\n \n\n \nattendee\n\nFallon Henry\n\nLandscape Architect\nemail \n\n \n\n \nattendee\n\nLee Mayne\n\nLandscape Architect\nemail
URL:https://wallace.design/insights-events/cnu-34/
LOCATION:Georgia
CATEGORIES:Civic & Cultural
END:VEVENT
END:VCALENDAR