BEGIN:VCALENDAR
VERSION:2.0
PRODID:-//Wallace Design Collective - ECPv6.15.20//NONSGML v1.0//EN
CALSCALE:GREGORIAN
METHOD:PUBLISH
X-WR-CALNAME:Wallace Design Collective
X-ORIGINAL-URL:https://wallace.design
X-WR-CALDESC:Events for Wallace Design Collective
REFRESH-INTERVAL;VALUE=DURATION:PT1H
X-Robots-Tag:noindex
X-PUBLISHED-TTL:PT1H
BEGIN:VTIMEZONE
TZID:America/Chicago
BEGIN:DAYLIGHT
TZOFFSETFROM:-0600
TZOFFSETTO:-0500
TZNAME:CDT
DTSTART:20240310T080000
END:DAYLIGHT
BEGIN:STANDARD
TZOFFSETFROM:-0500
TZOFFSETTO:-0600
TZNAME:CST
DTSTART:20241103T070000
END:STANDARD
BEGIN:DAYLIGHT
TZOFFSETFROM:-0600
TZOFFSETTO:-0500
TZNAME:CDT
DTSTART:20250309T080000
END:DAYLIGHT
BEGIN:STANDARD
TZOFFSETFROM:-0500
TZOFFSETTO:-0600
TZNAME:CST
DTSTART:20251102T070000
END:STANDARD
BEGIN:DAYLIGHT
TZOFFSETFROM:-0600
TZOFFSETTO:-0500
TZNAME:CDT
DTSTART:20260308T080000
END:DAYLIGHT
BEGIN:STANDARD
TZOFFSETFROM:-0500
TZOFFSETTO:-0600
TZNAME:CST
DTSTART:20261101T070000
END:STANDARD
END:VTIMEZONE
BEGIN:VEVENT
DTSTART;VALUE=DATE:20250825
DTEND;VALUE=DATE:20250828
DTSTAMP:20260421T212704
CREATED:20250823T184926Z
LAST-MODIFIED:20250823T190049Z
UID:7892-1756080000-1756339199@wallace.design
SUMMARY:AICCO The Gathering Business Summit
DESCRIPTION:We’re proud to sponsor and attend this year’s American Indian Chamber of Commerce of Oklahoma (AICCO) The Gathering Business Summit and to connect with others committed to growing opportunity alongside Native-owned businesses and sovereign tribal nations across Oklahoma. \nWe’ve had the privilege of partnering with more than 25 tribal nations to support a wide range of projects across healthcare\, education\, housing\, cultural spaces\, infrastructure and economic development. Our work in Indian Country is a meaningful part of who we are. Each project is grounded in respect for sovereignty\, cultural identity and the unique priorities of every Nation we serve. \nIf you’re attending\, come find us – we’d love to connect! \n  \n\n \n\n \nattendee\nRobert Anquoe \nCivil Engineer\nemail \n\n \n\n \nattendee \nNicole Watts  \nPrincipal | Civil Engineer email \n\n \n\n \nattendee \n Lance Woolsey \nAssociate | Civil Engineer email \n\n \n\n \nattendee\n Jen Hubbard \nTalent Acquisition\nemail
URL:https://wallace.design/insights-events/aicco-the-gathering-business-summit/
LOCATION:River Spirit Casino\, 8330 Riverside Parkway\, Tulsa\, OK\, 74137
CATEGORIES:Indian Country
END:VEVENT
BEGIN:VEVENT
DTSTART;VALUE=DATE:20250806
DTEND;VALUE=DATE:20250808
DTSTAMP:20260421T212704
CREATED:20250821T140058Z
LAST-MODIFIED:20250821T212850Z
UID:7661-1754438400-1754611199@wallace.design
SUMMARY:Vanderbilt University’s 19th Annual Healthcare Design & Construction Symposium
DESCRIPTION:Wallace’s own David Lower is heading to Vanderbilt University for the 19th Annual Healthcare Design & Construction Symposium! He’s looking forward to connecting with fellow professionals\, exchanging ideas and exploring what’s next in healthcare design. \nPlanning to attend? Reach out – we’d love to connect! \n  \n  \n \n\n \nattendee\n\nDavid Lower\n\nStructural Principal\nemail
URL:https://wallace.design/insights-events/vanderbilt-healthcare-design-symposium/
LOCATION:Vanderbilt University\, 2201 West End Avenue\, Nashville\, Tennessee\, 37235
CATEGORIES:Healthcare
END:VEVENT
BEGIN:VEVENT
DTSTART;VALUE=DATE:20250806
DTEND;VALUE=DATE:20250807
DTSTAMP:20260421T212704
CREATED:20250821T140412Z
LAST-MODIFIED:20250821T212914Z
UID:7715-1754438400-1754524799@wallace.design
SUMMARY:BisNow Data Center Conference
DESCRIPTION:Wallace Design Collective is heading to Dallas for Bisnow’s DICE South! We’re proud to support mission-critical facilities with structural and civil solutions built for speed\, scalability and reliability. Attending? Connect with Mondher Labbane\, Danny Baldwin or Sean Morris – we’d love to talk about data centers\, AI and future-ready infrastructure. \n  \n  \n\n \n\n \nattendee\n\nMondher Labbane\n\nStructural Principal\nemail \n\n \n\n \nattendee\n\nDanny Baldwin\n\nCivil Principal\nemail \n\n \n\n \nattendee\n\nSean Morris\n\nPrecast Specialist\nemail
URL:https://wallace.design/insights-events/bisnow-data-center-conference/
LOCATION:Fairmont Dallas\, 1717 North Akard Street\, Dallas\, Texas\, 75201
CATEGORIES:Mission Critical
END:VEVENT
BEGIN:VEVENT
DTSTART;VALUE=DATE:20250805
DTEND;VALUE=DATE:20250809
DTSTAMP:20260421T212704
CREATED:20250822T173641Z
LAST-MODIFIED:20250822T174949Z
UID:7889-1754352000-1754697599@wallace.design
SUMMARY:SMPS Amplify Conference
DESCRIPTION:We always look forward to the SMPS Amplify Conference each year! We’re excited to exchange ideas\, ignite creativity and reimagine what’s possible in A/E/C marketing and business development. See you in Ohio! \n  \n\n \n\n \nattendee\n\nBrad Thurman\n\nChief Marketing Officer\nemail \n\n \n\n \nattendee\n\n  Janel Bales\n\nBusiness Development\nemail
URL:https://wallace.design/insights-events/smps-amplify-conference/
LOCATION:Hilton Columbus Downtown\, 402 N High St\, Columbus\, OH\, 43215
CATEGORIES:Marketing
END:VEVENT
BEGIN:VEVENT
DTSTART;VALUE=DATE:20250728
DTEND;VALUE=DATE:20250731
DTSTAMP:20260421T212704
CREATED:20250822T165616Z
LAST-MODIFIED:20250822T171752Z
UID:7884-1753660800-1753919999@wallace.design
SUMMARY:Arkansas Association of Educational Administrators 2025 Summer Conference
DESCRIPTION:We’re excited to be exhibiting at the  Arkansas Association of Educational Administrators (AAEA) 2025 Conference\, July 28–30! Stop by our booth to meet Lee Myane\, PLA\, ASLA and Chris Lang\, PE. We’re eager to discuss how Wallace Design Collective partners with educational institutions to create spaces that cultivate growth and knowledge. \nSee you there! \n  \n\n \n\n \nattendee\n\nChris Lang\n\nStructural Principal\nemail \n\n \n\n \nattendee\n\nLee Myane\n\nLandscape Architect\nemail
URL:https://wallace.design/insights-events/arkansas-association-of-educational-administrators-2025-summer-conference/
LOCATION:Statehouse Convention Center\, 101 East Markham Street\, Little Rock\, AR\, 72201
CATEGORIES:Education
END:VEVENT
BEGIN:VEVENT
DTSTART;VALUE=DATE:20250723
DTEND;VALUE=DATE:20250726
DTSTAMP:20260421T212704
CREATED:20250822T132841Z
LAST-MODIFIED:20250822T140420Z
UID:7886-1753228800-1753487999@wallace.design
SUMMARY:City Management Association of Oklahoma 2025 Summer Conference
DESCRIPTION:We’re thrilled to be heading to the CMAO Conference July 23-25! Be sure to stop by our booth and say hello to Purvi Patel and Colton Wayman. We’re ready to explore innovative solutions for city management and discuss your project needs. \n  \n\n \n\n \nattendee\n\n  Purvi Patel\n\nLand Planner\nemail \n\n \n\n \nattendee\n\n  Colton Wayman\n\nLand Planner\nemail
URL:https://wallace.design/insights-events/cmao-summer-conference-2025/
LOCATION:Hilton Garden Inn\, 135 NW 2nd St\, Lawton\, OK\, 73501
CATEGORIES:Civic & Cultural
END:VEVENT
BEGIN:VEVENT
DTSTART;VALUE=DATE:20250714
DTEND;VALUE=DATE:20250717
DTSTAMP:20260421T212704
CREATED:20250821T214000Z
LAST-MODIFIED:20251024T184115Z
UID:7881-1752451200-1752710399@wallace.design
SUMMARY:2025 Arkansas Rural Educational (AREA) Summer Conference
DESCRIPTION:Calling all Arkansas educational leaders! We’re excited to be a sponsor and exhibitor at the AREA Conference from July 14-16. Swing by our booth and connect with Lee Myane\, PLA\, ASLA. We’re ready to chat about thoughtful design solutions that help make lives better for your students and communities! \n \n  \n\n \nattendee\n\nLee Myane\n\nLandscape Architect\nemail
URL:https://wallace.design/insights-events/area-fall-conference/
LOCATION:DoubleTree by Hilton\, 4813 Central Ave\, Hot Springs\, AR\, 71913\, United States
CATEGORIES:Education
END:VEVENT
BEGIN:VEVENT
DTSTART;VALUE=DATE:20250618
DTEND;VALUE=DATE:20250621
DTSTAMP:20260421T212704
CREATED:20250821T205547Z
LAST-MODIFIED:20250821T212340Z
UID:7875-1750204800-1750463999@wallace.design
SUMMARY:Arkansas Municipal League's 91st Convention
DESCRIPTION:We’re looking forward to connecting at the Arkansas Municipal League Convention this week! \nAs a proud sponsor\, we’re excited for Jeremy Belitz\, PLA\, ASLA\, and Fallon Henry\, PLA\, ASLA\, to engage with municipal leaders and discuss solutions that make lives better for communities across Arkansas. Let’s shape the future together! \n \n  \n\n \n\n \nattendee\n\nJeremy Belitz\n\nDirector of Landscape Architecture\nemail \n\n \n\n   \n\n    attendee\n    \n      Fallon Henry\n    \n    Landscape Architect\n    email
URL:https://wallace.design/insights-events/arkansas-municipal-league-convention-91/
LOCATION:Statehouse Convention Center\, 101 East Markham Street\, Little Rock\, AR\, 72201
CATEGORIES:Civic & Cultural
END:VEVENT
BEGIN:VEVENT
DTSTART;VALUE=DATE:20250604
DTEND;VALUE=DATE:20250607
DTSTAMP:20260421T212704
CREATED:20250821T204144Z
LAST-MODIFIED:20250903T145053Z
UID:7878-1748995200-1749254399@wallace.design
SUMMARY:2025 GAHFM Fall Technical Education Conference
DESCRIPTION:We’re at the Georgia Association for Healthcare Facility Managers Conference this week and ready to collaborate! Kurt Swensson and Kevin Smith to talk about your facility management goals and how we can support safe\, effective healthcare environments across Georgia. \n  \n\n \n\n \nattendee\n\nKurt Swensson\n\nStructural Principal\nemail \n\n \n\n \nattendee\n\nKevin Smith\n\nStructural Principal\nemail
URL:https://wallace.design/insights-events/2025-gahfm/
LOCATION:Calloway Gardens\, 17617 US-27\, Pine Mountain\, GA\, 31822
CATEGORIES:Healthcare
END:VEVENT
END:VCALENDAR